BEGIN:VCALENDAR
VERSION:2.0
PRODID:-//Tukios.com/
BEGIN:VEVENT
UID:9731c96c-ca74-4445-b814-812937ea3dab@www.gpanochfunerals.com
DTSTAMP:20260423T014311Z
DTSTART:20260507T170000Z
DTEND:20260507T173000Z
SUMMARY:Burial
DESCRIPTION:
URL:https://www.gpanochfunerals.com/obituaries/louis-piller-jr
LOCATION:South Florida VA National Cemetery 6501 s st rd 7  Lake Worth FL 
	33467
GEO:26.5861576;-80.1763467
END:VEVENT
END:VCALENDAR