BEGIN:VCALENDAR
VERSION:2.0
PRODID:-//Tukios.com/
BEGIN:VEVENT
UID:ea430dff-9209-4b07-aaf3-48aa37d3167a@www.gpanochfunerals.com
DTSTAMP:20260423T014352Z
DTSTART:20260507T143000Z
DTEND:20260507T153000Z
SUMMARY:Funeral Service
DESCRIPTION:
URL:https://www.gpanochfunerals.com/obituaries/louis-piller-jr
LOCATION:St. Lucy Catholic Church 3510 South Ocean Boulevard  Highland 
	Beach FL 33487
GEO:26.412647;-80.066155
END:VEVENT
END:VCALENDAR