BEGIN:VCALENDAR
VERSION:2.0
PRODID:-//Tukios.com/
BEGIN:VEVENT
UID:031e0e67-c0c9-4d78-bd9d-8bd3e1f773b2@www.gpanochfunerals.com
DTSTAMP:20260423T014633Z
DTSTART:20260507T140000Z
DTEND:20260507T143000Z
SUMMARY:Visitation
DESCRIPTION:
URL:https://www.gpanochfunerals.com/obituaries/louis-piller-jr
LOCATION:St. Lucy Catholic Church 3510 South Ocean Boulevard  Highland 
	Beach FL 33487
GEO:26.412647;-80.066155
END:VEVENT
END:VCALENDAR